{"text_format":"1","workbook":"xlsx","n_sheets":4,"sheets":["Démarrage","Matrice des couleurs","Textes","Éléments graphiques"],"not_rendered":{"charts":0,"images":1,"macros":1,"external_links":0,"defined_names":0,"comments":0,"pivot_tables":0},"unopened":[],"bounds":{"document_bytes":16777216,"sheet_cells":100000,"rows_first":2000,"rows_last":500,"rows_between":2000,"halvings":0,"cell_chars":16384,"cell_head_chars":4096},"cells_cut":0,"cells_raw":0,"read":"whole","date_system":"1900"}

{"sheet":"Démarrage","index":0,"n_rows":37,"n_cols":8,"rows_kept":37,"cut":false,"hidden":false,"merged":[[10,6,11,6],[6,0,6,7],[8,0,8,7],[10,7,11,7],[0,2,1,2],[3,2,4,2],[10,3,10,5],[10,2,11,2],[10,1,11,1]]}
[null,null,"Auteur : ","Atalan"]
[null,null,null,"https://blog.atalan.fr/grille-contrastes-accessibilite-charte-graphique"]
[null,null,"Version : ",5]
[null,null,"Licence : ","Creative Commons BY-SA 3.0 FR"]
[null,null,null,"https://creativecommons.org/licenses/by-sa/3.0/fr/"]
[]
["Grille d'analyse des contrastes d'une charte"]
[]
["Dans le tableau ci-après, renseigner les différentes couleurs qui peuvent être utilisées pour votre projet.\nIl est possible de renseigner le code RGB ou le code hexadécimal.\n\nEnsuite, les onglets suivants vous permettront d'afficher :\n- Onglet \"Matrice des couleurs\" : les combinaisons de couleurs possibles et les ratios de contrastes correspondants.\n- Onglet \"Textes\" : les combinaisons de couleurs utilisables pour du texte afin de respecter le niveau AA des WCAG 2.2 ou du RGAA 4.1.2.\n- Onglet \"Éléments graphiques\" : les combinaisons de couleurs utilisables pour des éléments graphiques informatifs afin de respecter le niveau AA des WCAG 2.2 ou du RGAA 4.1.2."]
[]
[null,"N° \ncouleur","Nom \nde la couleur","Code RGB",null,null,"Code \nhexadécimal","Aperçu"]
[null,null,null,"R","G","B"]
[null,1,"Blanc",{"$f":"HEX2DEC(MID(G13,2,2))","v":255},{"$f":"HEX2DEC(MID(G13,4,2))","v":255},{"$f":"HEX2DEC(MID(G13,6,2))","v":255},"#FFFFFF"]
[null,2,"Noir",0,0,0,"#000000"]
[null,3,"Bleu Atalan",{"$f":"HEX2DEC(MID(G15,2,2))","v":51},{"$f":"HEX2DEC(MID(G15,4,2))","v":39},{"$f":"HEX2DEC(MID(G15,6,2))","v":79},"#33274F"]
[null,4,"Violet Atalan",164,52,138,"#A4348A"]
[null,5,"Violet AcceDe Web",86,41,130,"#562982"]
[null,6,"Rouge AcceDe PDF",216,45,41,"#D82D29"]
[null,7,"Anis AcceDe Web Formation",216,222,26,"#D8DE1A"]
[null,8,"Fuchsia AcceDe Web Formation",204,25,164,"#CC19A4"]
[null,9,"Jaune AcceDe Web Formation",246,228,50,"#F6E432"]
[null,10,"Violet AcceDe Web Formation",110,45,135,"#6E2D87"]
[null,11,"Rose 1 AcceDe Web Formation",164,52,138,"#A4348A"]
[null,12,"Rose 2 AcceDe Web Formation",178,22,145,"#B21691"]
[null,13,"Rose 3 AcceDe Web Formation",248,159,196,"#F89FC4"]
[null,14,"Rose 4 AcceDe Web Formation",247,237,242,"#F7EDF2"]
[null,15]
[null,16]
[null,17]
[null,18]
[null,19]
[null,20]
[null,21]
[null,22]
[null,23]
[null,24]
[null,25]

{"sheet":"Matrice des couleurs","index":1,"n_rows":18,"n_cols":15,"rows_kept":18,"cut":false,"hidden":false,"merged":[[1,0,1,13],[0,0,0,4]]}
["Matrice des combinaisons de couleurs"]
["Les ratios de contrastes sont précisés dans les cellules du tableau ci-après."]
[]
[null,"Blanc","Noir","Bleu Atalan","Violet Atalan","Violet AcceDe Web","Rouge AcceDe PDF","Anis AcceDe Web Formation","Fuchsia AcceDe Web Formation","Jaune AcceDe Web Formation","Violet AcceDe Web Formation","Rose 1 AcceDe Web Formation","Rose 2 AcceDe Web Formation","Rose 3 AcceDe Web Formation","Rose 4 AcceDe Web Formation"]
["Blanc",1,21,13.602166460504677,6.1105221699328718,10.318380365179465,4.8530681884931033,1.4600354264938469,4.9498026979339578,1.307434920676408,8.7932050373718091,6.1105221699328718,6.1464145978446192,1.9539153247136822,1.1443725689332773]
["Noir",21,1,1.5438717105084483,3.4366948381811859,2.0352031284741994,4.3271594761005368,14.383212639182151,4.242593347966249,16.061984935460913,2.388207702509876,3.4366948381811859,3.4166260127268555,10.74765100328861,18.350667055550861]
["Bleu Atalan",13.602166460504677,1.5438717105084483,1,2.2260235839475082,1.3182462730688544,2.8027973092890335,9.3163263121424009,2.7480219496793694,10.403704418012275,1.5468951767523222,2.2260235839475082,2.2130245599238596,6.9614922860067514,11.886134664328669]
["Violet Atalan",6.1105221699328718,3.4366948381811859,2.2260235839475082,1,1.6886249780667795,1.2591049481689258,4.1851876050752965,1.2344981290836901,4.6736721448219862,1.4390267791906906,1,1.0058738724635281,3.1273218919188728,5.3396265655238251]
["Violet AcceDe Web",10.318380365179465,2.0352031284741994,1.3182462730688544,1.6886249780667795,1,2.1261560654855258,7.0672123278256294,2.0846043761474262,7.8920795230413443,1.1734493078832509,1.6886249780667795,1.6787641316610566,5.2808738611492654,9.0166267920924614]
["Rouge AcceDe PDF",4.8530681884931033,4.3271594761005368,2.8027973092890335,1.2591049481689258,2.1261560654855258,1,3.3239386527403254,1.019932649961568,3.7119003873495626,1.8118857382265905,1.2591049481689258,1.2665007700526674,2.4837658659564736,4.2408113583296334]
["Anis AcceDe Web Formation",1.4600354264938469,14.383212639182151,9.3163263121424009,4.1851876050752965,7.0672123278256294,3.3239386527403254,1,3.3901935583991243,1.1167174774087341,6.0225970396403037,4.1851876050752965,4.2097708633034481,1.3382656949673111,1.2758392381379899]
["Fuchsia AcceDe Web Formation",4.9498026979339578,4.242593347966249,2.7480219496793694,1.2344981290836901,2.0846043761474262,1.019932649961568,3.3901935583991243,1,3.7858883984628098,1.7764758666122358,1.2344981290836901,1.2417494136503917,2.5332739015490748,4.32534196668826]
["Jaune AcceDe Web Formation",1.307434920676408,16.061984935460913,10.403704418012275,4.6736721448219862,7.8920795230413443,3.7119003873495626,1.1167174774087341,3.7858883984628098,1,6.7255393735564288,4.6736721448219862,4.701124698937015,1.494464690986542,1.142490615530158]
["Violet AcceDe Web Formation",8.7932050373718091,2.388207702509876,1.5468951767523222,1.4390267791906906,1.1734493078832509,1.8118857382265905,6.0225970396403037,1.7764758666122358,6.7255393735564288,1,1.4390267791906906,1.4306234793297783,4.500299949620552,7.6838656186667977]
["Rose 1 AcceDe Web Formation",6.1105221699328718,3.4366948381811859,2.2260235839475082,1,1.6886249780667795,1.2591049481689258,4.1851876050752965,1.2344981290836901,4.6736721448219862,1.4390267791906906,1,1.0058738724635281,3.1273218919188728,5.3396265655238251]
["Rose 2 AcceDe Web Formation",6.1464145978446192,3.4166260127268555,2.2130245599238596,1.0058738724635281,1.6787641316610566,1.2665007700526674,4.2097708633034481,1.2417494136503917,4.701124698937015,1.4306234793297783,1.0058738724635281,1,3.1456913818644039,5.3709908509725794]
["Rose 3 AcceDe Web Formation",1.9539153247136822,10.74765100328861,6.9614922860067514,3.1273218919188728,5.2808738611492654,2.4837658659564736,1.3382656949673111,2.5332739015490748,1.494464690986542,4.500299949620552,3.1273218919188728,3.1456913818644039,1,1.7074118846933017]
["Rose 4 AcceDe Web Formation",1.1443725689332773,18.350667055550861,11.886134664328669,5.3396265655238251,9.0166267920924614,4.2408113583296334,1.2758392381379899,4.32534196668826,1.142490615530158,7.6838656186667977,5.3396265655238251,5.3709908509725794,1.7074118846933017,1]

{"sheet":"Textes","index":2,"n_rows":29,"n_cols":26,"rows_kept":29,"cut":false,"hidden":false,"merged":[[0,0,0,12],[1,0,1,13]]}
["Aperçu des combinaisons possibles pour du texte"]
["Le ratio de contraste pour les textes doit être supérieur ou égal à 4,5.\nCertains textes considérés comme grands peuvent respecter un ratio inférieur mais il est fortement recommandé d'appliquer le ratio minimum de 4,5 pour l'ensemble des textes.\n\nPour plus d'information, voir la fiche AcceDe Web suivante : https://www.accede-web.com/notices/fonctionnelle-graphique/couleurs/assurer-un-contraste-suffisant-entre-les-textes-et-larriere-plan/"]
[]
[null,"Blanc","Noir","Bleu Atalan","Violet Atalan","Violet AcceDe Web","Rouge AcceDe PDF","Anis AcceDe Web Formation","Fuchsia AcceDe Web Formation","Jaune AcceDe Web Formation","Violet AcceDe Web Formation","Rose 1 AcceDe Web Formation","Rose 2 AcceDe Web Formation","Rose 3 AcceDe Web Formation","Rose 4 AcceDe Web Formation"]
["Blanc",null,21,13.602166460504677,6.1105221699328718,10.318380365179465,4.8530681884931033,null,4.9498026979339578,null,8.7932050373718091,6.1105221699328718,6.1464145978446192,null,null,8.6554242085776547,{"$f":"'Matrice des couleurs'!Q5","v":0},{"$f":"'Matrice des couleurs'!R5","v":0},{"$f":"'Matrice des couleurs'!S5","v":0},{"$f":"'Matrice des couleurs'!T5","v":0},{"$f":"'Matrice des couleurs'!U5","v":0},{"$f":"'Matrice des couleurs'!V5","v":0},{"$f":"'Matrice des couleurs'!W5","v":0},{"$f":"'Matrice des couleurs'!X5","v":0},{"$f":"'Matrice des couleurs'!Y5","v":0}]
["Noir",21,null,null,null,null,null,14.383212639182151,null,16.061984935460913,null,null,null,10.74765100328861,18.350667055550861,6.4637298640692959,{"$f":"'Matrice des couleurs'!Q6","v":0},{"$f":"'Matrice des couleurs'!R6","v":0},{"$f":"'Matrice des couleurs'!S6","v":0},{"$f":"'Matrice des couleurs'!T6","v":0},{"$f":"'Matrice des couleurs'!U6","v":0},{"$f":"'Matrice des couleurs'!V6","v":0},{"$f":"'Matrice des couleurs'!W6","v":0},{"$f":"'Matrice des couleurs'!X6","v":0},{"$f":"'Matrice des couleurs'!Y6","v":0},21]
["Bleu Atalan",13.602166460504677,null,null,null,null,null,9.3163263121424009,null,10.403704418012275,null,null,null,6.9614922860067514,11.886134664328669,5.4741162159525532,{"$f":"'Matrice des couleurs'!Q7","v":0},{"$f":"'Matrice des couleurs'!R7","v":0},{"$f":"'Matrice des couleurs'!S7","v":0},{"$f":"'Matrice des couleurs'!T7","v":0},{"$f":"'Matrice des couleurs'!U7","v":0},{"$f":"'Matrice des couleurs'!V7","v":0},{"$f":"'Matrice des couleurs'!W7","v":0},{"$f":"'Matrice des couleurs'!X7","v":0},{"$f":"'Matrice des couleurs'!Y7","v":0},15.410985973961317]
["Violet Atalan",6.1105221699328718,null,null,null,null,null,null,null,4.6736721448219862,null,null,null,null,5.3396265655238251,21,{"$f":"'Matrice des couleurs'!Q8","v":0},{"$f":"'Matrice des couleurs'!R8","v":0},{"$f":"'Matrice des couleurs'!S8","v":0},{"$f":"'Matrice des couleurs'!T8","v":0},{"$f":"'Matrice des couleurs'!U8","v":0},{"$f":"'Matrice des couleurs'!V8","v":0},{"$f":"'Matrice des couleurs'!W8","v":0},{"$f":"'Matrice des couleurs'!X8","v":0},{"$f":"'Matrice des couleurs'!Y8","v":0}]
["Violet AcceDe Web",10.318380365179465,null,null,null,null,null,7.0672123278256294,null,7.8920795230413443,null,null,null,5.2808738611492654,9.0166267920924614,16.747999999999998,{"$f":"'Matrice des couleurs'!Q9","v":0},{"$f":"'Matrice des couleurs'!R9","v":0},{"$f":"'Matrice des couleurs'!S9","v":0},{"$f":"'Matrice des couleurs'!T9","v":0},{"$f":"'Matrice des couleurs'!U9","v":0},{"$f":"'Matrice des couleurs'!V9","v":0},{"$f":"'Matrice des couleurs'!W9","v":0},{"$f":"'Matrice des couleurs'!X9","v":0},{"$f":"'Matrice des couleurs'!Y9","v":0},5.7418364814541487]
["Rouge AcceDe PDF",4.8530681884931033,null,null,null,null,null,null,null,null,null,null,null,null,null,7.1377254426170795,{"$f":"'Matrice des couleurs'!Q10","v":0},{"$f":"'Matrice des couleurs'!R10","v":0},{"$f":"'Matrice des couleurs'!S10","v":0},{"$f":"'Matrice des couleurs'!T10","v":0},{"$f":"'Matrice des couleurs'!U10","v":0},{"$f":"'Matrice des couleurs'!V10","v":0},{"$f":"'Matrice des couleurs'!W10","v":0},{"$f":"'Matrice des couleurs'!X10","v":0},{"$f":"'Matrice des couleurs'!Y10","v":0},4.5422249596052531]
["Anis AcceDe Web Formation",null,14.383212639182151,9.3163263121424009,null,7.0672123278256294,null,null,null,null,6.0225970396403037,null,null,null,null,19.773714569157757,{"$f":"'Matrice des couleurs'!Q11","v":0},{"$f":"'Matrice des couleurs'!R11","v":0},{"$f":"'Matrice des couleurs'!S11","v":0},{"$f":"'Matrice des couleurs'!T11","v":0},{"$f":"'Matrice des couleurs'!U11","v":0},{"$f":"'Matrice des couleurs'!V11","v":0},{"$f":"'Matrice des couleurs'!W11","v":0},{"$f":"'Matrice des couleurs'!X11","v":0},{"$f":"'Matrice des couleurs'!Y11","v":0}]
["Fuchsia AcceDe Web Formation",4.9498026979339578,null,null,null,null,null,null,null,null,null,null,null,null,null,null,{"$f":"'Matrice des couleurs'!Q12","v":0},{"$f":"'Matrice des couleurs'!R12","v":0},{"$f":"'Matrice des couleurs'!S12","v":0},{"$f":"'Matrice des couleurs'!T12","v":0},{"$f":"'Matrice des couleurs'!U12","v":0},{"$f":"'Matrice des couleurs'!V12","v":0},{"$f":"'Matrice des couleurs'!W12","v":0},{"$f":"'Matrice des couleurs'!X12","v":0},{"$f":"'Matrice des couleurs'!Y12","v":0},4.8303753321258185]
["Jaune AcceDe Web Formation",null,16.061984935460913,10.403704418012275,4.6736721448219862,7.8920795230413443,null,null,null,null,6.7255393735564288,4.6736721448219862,4.701124698937015,null,null,null,{"$f":"'Matrice des couleurs'!Q13","v":0},{"$f":"'Matrice des couleurs'!R13","v":0},{"$f":"'Matrice des couleurs'!S13","v":0},{"$f":"'Matrice des couleurs'!T13","v":0},{"$f":"'Matrice des couleurs'!U13","v":0},{"$f":"'Matrice des couleurs'!V13","v":0},{"$f":"'Matrice des couleurs'!W13","v":0},{"$f":"'Matrice des couleurs'!X13","v":0},{"$f":"'Matrice des couleurs'!Y13","v":0},10.318380365179465]
["Violet AcceDe Web Formation",8.7932050373718091,null,null,null,null,null,6.0225970396403037,null,6.7255393735564288,null,null,null,4.500299949620552,7.6838656186667977,5.6864787825141718,{"$f":"'Matrice des couleurs'!Q14","v":0},{"$f":"'Matrice des couleurs'!R14","v":0},{"$f":"'Matrice des couleurs'!S14","v":0},{"$f":"'Matrice des couleurs'!T14","v":0},{"$f":"'Matrice des couleurs'!U14","v":0},{"$f":"'Matrice des couleurs'!V14","v":0},{"$f":"'Matrice des couleurs'!W14","v":0},{"$f":"'Matrice des couleurs'!X14","v":0},{"$f":"'Matrice des couleurs'!Y14","v":0}]
["Rose 1 AcceDe Web Formation",6.1105221699328718,null,null,null,null,null,null,null,4.6736721448219862,null,null,null,null,5.3396265655238251,null,{"$f":"'Matrice des couleurs'!Q15","v":0},{"$f":"'Matrice des couleurs'!R15","v":0},{"$f":"'Matrice des couleurs'!S15","v":0},{"$f":"'Matrice des couleurs'!T15","v":0},{"$f":"'Matrice des couleurs'!U15","v":0},{"$f":"'Matrice des couleurs'!V15","v":0},{"$f":"'Matrice des couleurs'!W15","v":0},{"$f":"'Matrice des couleurs'!X15","v":0},{"$f":"'Matrice des couleurs'!Y15","v":0},{"$f":"'Matrice des couleurs'!Z15","v":0}]
["Rose 2 AcceDe Web Formation",6.1464145978446192,null,null,null,null,null,null,null,4.701124698937015,null,null,null,null,5.3709908509725794,{"$f":"'Matrice des couleurs'!P16","v":0},{"$f":"'Matrice des couleurs'!Q16","v":0},{"$f":"'Matrice des couleurs'!R16","v":0},{"$f":"'Matrice des couleurs'!S16","v":0},{"$f":"'Matrice des couleurs'!T16","v":0},{"$f":"'Matrice des couleurs'!U16","v":0},{"$f":"'Matrice des couleurs'!V16","v":0},{"$f":"'Matrice des couleurs'!W16","v":0},{"$f":"'Matrice des couleurs'!X16","v":0},{"$f":"'Matrice des couleurs'!Y16","v":0},{"$f":"'Matrice des couleurs'!Z16","v":0}]
["Rose 3 AcceDe Web Formation",null,10.74765100328861,6.9614922860067514,null,5.2808738611492654,null,null,null,null,4.500299949620552,null,null,null,null,{"$f":"'Matrice des couleurs'!P17","v":0},{"$f":"'Matrice des couleurs'!Q17","v":0},{"$f":"'Matrice des couleurs'!R17","v":0},{"$f":"'Matrice des couleurs'!S17","v":0},{"$f":"'Matrice des couleurs'!T17","v":0},{"$f":"'Matrice des couleurs'!U17","v":0},{"$f":"'Matrice des couleurs'!V17","v":0},{"$f":"'Matrice des couleurs'!W17","v":0},{"$f":"'Matrice des couleurs'!X17","v":0},{"$f":"'Matrice des couleurs'!Y17","v":0},{"$f":"'Matrice des couleurs'!Z17","v":0}]
["Rose 4 AcceDe Web Formation",null,18.350667055550861,11.886134664328669,5.3396265655238251,9.0166267920924614,null,null,null,null,7.6838656186667977,5.3396265655238251,5.3709908509725794,null,null,{"$f":"'Matrice des couleurs'!P18","v":0},{"$f":"'Matrice des couleurs'!Q18","v":0},{"$f":"'Matrice des couleurs'!R18","v":0},{"$f":"'Matrice des couleurs'!S18","v":0},{"$f":"'Matrice des couleurs'!T18","v":0},{"$f":"'Matrice des couleurs'!U18","v":0},{"$f":"'Matrice des couleurs'!V18","v":0},{"$f":"'Matrice des couleurs'!W18","v":0},{"$f":"'Matrice des couleurs'!X18","v":0},{"$f":"'Matrice des couleurs'!Y18","v":0},{"$f":"'Matrice des couleurs'!Z18","v":0}]
[null,8.6554242085776547,6.4637298640692959,5.4741162159525532,21,16.747999999999998,7.1377254426170795,19.773714569157757,null,null,5.6864787825141718,null,{"$f":"'Matrice des couleurs'!M19","v":0},{"$f":"'Matrice des couleurs'!N19","v":0},{"$f":"'Matrice des couleurs'!O19","v":0},null,{"$f":"'Matrice des couleurs'!Q19","v":0},{"$f":"'Matrice des couleurs'!R19","v":0},{"$f":"'Matrice des couleurs'!S19","v":0},{"$f":"'Matrice des couleurs'!T19","v":0},{"$f":"'Matrice des couleurs'!U19","v":0},{"$f":"'Matrice des couleurs'!V19","v":0},{"$f":"'Matrice des couleurs'!W19","v":0},{"$f":"'Matrice des couleurs'!X19","v":0},{"$f":"'Matrice des couleurs'!Y19","v":0},{"$f":"'Matrice des couleurs'!Z19","v":0}]
[null,{"$f":"'Matrice des couleurs'!B20","v":0},{"$f":"'Matrice des couleurs'!C20","v":0},{"$f":"'Matrice des couleurs'!D20","v":0},{"$f":"'Matrice des couleurs'!E20","v":0},{"$f":"'Matrice des couleurs'!F20","v":0},{"$f":"'Matrice des couleurs'!G20","v":0},{"$f":"'Matrice des couleurs'!H20","v":0},{"$f":"'Matrice des couleurs'!I20","v":0},{"$f":"'Matrice des couleurs'!J20","v":0},{"$f":"'Matrice des couleurs'!K20","v":0},{"$f":"'Matrice des couleurs'!L20","v":0},{"$f":"'Matrice des couleurs'!M20","v":0},{"$f":"'Matrice des couleurs'!N20","v":0},{"$f":"'Matrice des couleurs'!O20","v":0},{"$f":"'Matrice des couleurs'!P20","v":0},{"$f":"'Matrice des couleurs'!Q20","v":0},{"$f":"'Matrice des couleurs'!R20","v":0},{"$f":"'Matrice des couleurs'!S20","v":0},{"$f":"'Matrice des couleurs'!T20","v":0},{"$f":"'Matrice des couleurs'!U20","v":0},{"$f":"'Matrice des couleurs'!V20","v":0},{"$f":"'Matrice des couleurs'!W20","v":0},{"$f":"'Matrice des couleurs'!X20","v":0},{"$f":"'Matrice des couleurs'!Y20","v":0},{"$f":"'Matrice des couleurs'!Z20","v":0}]
[null,{"$f":"'Matrice des couleurs'!B21","v":0},{"$f":"'Matrice des couleurs'!C21","v":0},{"$f":"'Matrice des couleurs'!D21","v":0},{"$f":"'Matrice des couleurs'!E21","v":0},{"$f":"'Matrice des couleurs'!F21","v":0},{"$f":"'Matrice des couleurs'!G21","v":0},{"$f":"'Matrice des couleurs'!H21","v":0},{"$f":"'Matrice des couleurs'!I21","v":0},{"$f":"'Matrice des couleurs'!J21","v":0},{"$f":"'Matrice des couleurs'!K21","v":0},{"$f":"'Matrice des couleurs'!L21","v":0},{"$f":"'Matrice des couleurs'!M21","v":0},{"$f":"'Matrice des couleurs'!N21","v":0},{"$f":"'Matrice des couleurs'!O21","v":0},{"$f":"'Matrice des couleurs'!P21","v":0},{"$f":"'Matrice des couleurs'!Q21","v":0},{"$f":"'Matrice des couleurs'!R21","v":0},{"$f":"'Matrice des couleurs'!S21","v":0},{"$f":"'Matrice des couleurs'!T21","v":0},{"$f":"'Matrice des couleurs'!U21","v":0},{"$f":"'Matrice des couleurs'!V21","v":0},{"$f":"'Matrice des couleurs'!W21","v":0},{"$f":"'Matrice des couleurs'!X21","v":0},{"$f":"'Matrice des couleurs'!Y21","v":0},{"$f":"'Matrice des couleurs'!Z21","v":0}]
[null,{"$f":"'Matrice des couleurs'!B22","v":0},{"$f":"'Matrice des couleurs'!C22","v":0},{"$f":"'Matrice des couleurs'!D22","v":0},{"$f":"'Matrice des couleurs'!E22","v":0},{"$f":"'Matrice des couleurs'!F22","v":0},{"$f":"'Matrice des couleurs'!G22","v":0},{"$f":"'Matrice des couleurs'!H22","v":0},{"$f":"'Matrice des couleurs'!I22","v":0},{"$f":"'Matrice des couleurs'!J22","v":0},{"$f":"'Matrice des couleurs'!K22","v":0},{"$f":"'Matrice des couleurs'!L22","v":0},{"$f":"'Matrice des couleurs'!M22","v":0},{"$f":"'Matrice des couleurs'!N22","v":0},{"$f":"'Matrice des couleurs'!O22","v":0},{"$f":"'Matrice des couleurs'!P22","v":0},{"$f":"'Matrice des couleurs'!Q22","v":0},{"$f":"'Matrice des couleurs'!R22","v":0},{"$f":"'Matrice des couleurs'!S22","v":0},{"$f":"'Matrice des couleurs'!T22","v":0},{"$f":"'Matrice des couleurs'!U22","v":0},{"$f":"'Matrice des couleurs'!V22","v":0},{"$f":"'Matrice des couleurs'!W22","v":0},{"$f":"'Matrice des couleurs'!X22","v":0},{"$f":"'Matrice des couleurs'!Y22","v":0},{"$f":"'Matrice des couleurs'!Z22","v":0}]
[null,{"$f":"'Matrice des couleurs'!B23","v":0},{"$f":"'Matrice des couleurs'!C23","v":0},{"$f":"'Matrice des couleurs'!D23","v":0},{"$f":"'Matrice des couleurs'!E23","v":0},{"$f":"'Matrice des couleurs'!F23","v":0},{"$f":"'Matrice des couleurs'!G23","v":0},{"$f":"'Matrice des couleurs'!H23","v":0},{"$f":"'Matrice des couleurs'!I23","v":0},{"$f":"'Matrice des couleurs'!J23","v":0},{"$f":"'Matrice des couleurs'!K23","v":0},{"$f":"'Matrice des couleurs'!L23","v":0},{"$f":"'Matrice des couleurs'!M23","v":0},{"$f":"'Matrice des couleurs'!N23","v":0},{"$f":"'Matrice des couleurs'!O23","v":0},{"$f":"'Matrice des couleurs'!P23","v":0},{"$f":"'Matrice des couleurs'!Q23","v":0},{"$f":"'Matrice des couleurs'!R23","v":0},{"$f":"'Matrice des couleurs'!S23","v":0},{"$f":"'Matrice des couleurs'!T23","v":0},{"$f":"'Matrice des couleurs'!U23","v":0},{"$f":"'Matrice des couleurs'!V23","v":0},{"$f":"'Matrice des couleurs'!W23","v":0},{"$f":"'Matrice des couleurs'!X23","v":0},{"$f":"'Matrice des couleurs'!Y23","v":0},{"$f":"'Matrice des couleurs'!Z23","v":0}]
[null,{"$f":"'Matrice des couleurs'!B24","v":0},{"$f":"'Matrice des couleurs'!C24","v":0},{"$f":"'Matrice des couleurs'!D24","v":0},{"$f":"'Matrice des couleurs'!E24","v":0},{"$f":"'Matrice des couleurs'!F24","v":0},{"$f":"'Matrice des couleurs'!G24","v":0},{"$f":"'Matrice des couleurs'!H24","v":0},{"$f":"'Matrice des couleurs'!I24","v":0},{"$f":"'Matrice des couleurs'!J24","v":0},{"$f":"'Matrice des couleurs'!K24","v":0},{"$f":"'Matrice des couleurs'!L24","v":0},{"$f":"'Matrice des couleurs'!M24","v":0},{"$f":"'Matrice des couleurs'!N24","v":0},{"$f":"'Matrice des couleurs'!O24","v":0},{"$f":"'Matrice des couleurs'!P24","v":0},{"$f":"'Matrice des couleurs'!Q24","v":0},{"$f":"'Matrice des couleurs'!R24","v":0},{"$f":"'Matrice des couleurs'!S24","v":0},{"$f":"'Matrice des couleurs'!T24","v":0},{"$f":"'Matrice des couleurs'!U24","v":0},{"$f":"'Matrice des couleurs'!V24","v":0},{"$f":"'Matrice des couleurs'!W24","v":0},{"$f":"'Matrice des couleurs'!X24","v":0},{"$f":"'Matrice des couleurs'!Y24","v":0},{"$f":"'Matrice des couleurs'!Z24","v":0}]
[null,{"$f":"'Matrice des couleurs'!B25","v":0},{"$f":"'Matrice des couleurs'!C25","v":0},{"$f":"'Matrice des couleurs'!D25","v":0},{"$f":"'Matrice des couleurs'!E25","v":0},{"$f":"'Matrice des couleurs'!F25","v":0},{"$f":"'Matrice des couleurs'!G25","v":0},{"$f":"'Matrice des couleurs'!H25","v":0},{"$f":"'Matrice des couleurs'!I25","v":0},{"$f":"'Matrice des couleurs'!J25","v":0},{"$f":"'Matrice des couleurs'!K25","v":0},{"$f":"'Matrice des couleurs'!L25","v":0},{"$f":"'Matrice des couleurs'!M25","v":0},{"$f":"'Matrice des couleurs'!N25","v":0},{"$f":"'Matrice des couleurs'!O25","v":0},{"$f":"'Matrice des couleurs'!P25","v":0},{"$f":"'Matrice des couleurs'!Q25","v":0},{"$f":"'Matrice des couleurs'!R25","v":0},{"$f":"'Matrice des couleurs'!S25","v":0},{"$f":"'Matrice des couleurs'!T25","v":0},{"$f":"'Matrice des couleurs'!U25","v":0},{"$f":"'Matrice des couleurs'!V25","v":0},{"$f":"'Matrice des couleurs'!W25","v":0},{"$f":"'Matrice des couleurs'!X25","v":0},{"$f":"'Matrice des couleurs'!Y25","v":0},{"$f":"'Matrice des couleurs'!Z25","v":0}]
[null,{"$f":"'Matrice des couleurs'!B26","v":0},{"$f":"'Matrice des couleurs'!C26","v":0},{"$f":"'Matrice des couleurs'!D26","v":0},{"$f":"'Matrice des couleurs'!E26","v":0},{"$f":"'Matrice des couleurs'!F26","v":0},{"$f":"'Matrice des couleurs'!G26","v":0},{"$f":"'Matrice des couleurs'!H26","v":0},{"$f":"'Matrice des couleurs'!I26","v":0},{"$f":"'Matrice des couleurs'!J26","v":0},{"$f":"'Matrice des couleurs'!K26","v":0},{"$f":"'Matrice des couleurs'!L26","v":0},{"$f":"'Matrice des couleurs'!M26","v":0},{"$f":"'Matrice des couleurs'!N26","v":0},{"$f":"'Matrice des couleurs'!O26","v":0},{"$f":"'Matrice des couleurs'!P26","v":0},{"$f":"'Matrice des couleurs'!Q26","v":0},{"$f":"'Matrice des couleurs'!R26","v":0},{"$f":"'Matrice des couleurs'!S26","v":0},{"$f":"'Matrice des couleurs'!T26","v":0},{"$f":"'Matrice des couleurs'!U26","v":0},{"$f":"'Matrice des couleurs'!V26","v":0},{"$f":"'Matrice des couleurs'!W26","v":0},{"$f":"'Matrice des couleurs'!X26","v":0},{"$f":"'Matrice des couleurs'!Y26","v":0},{"$f":"'Matrice des couleurs'!Z26","v":0}]
[null,{"$f":"'Matrice des couleurs'!B27","v":0},{"$f":"'Matrice des couleurs'!C27","v":0},{"$f":"'Matrice des couleurs'!D27","v":0},{"$f":"'Matrice des couleurs'!E27","v":0},{"$f":"'Matrice des couleurs'!F27","v":0},{"$f":"'Matrice des couleurs'!G27","v":0},{"$f":"'Matrice des couleurs'!H27","v":0},{"$f":"'Matrice des couleurs'!I27","v":0},{"$f":"'Matrice des couleurs'!J27","v":0},{"$f":"'Matrice des couleurs'!K27","v":0},{"$f":"'Matrice des couleurs'!L27","v":0},{"$f":"'Matrice des couleurs'!M27","v":0},{"$f":"'Matrice des couleurs'!N27","v":0},{"$f":"'Matrice des couleurs'!O27","v":0},{"$f":"'Matrice des couleurs'!P27","v":0},{"$f":"'Matrice des couleurs'!Q27","v":0},{"$f":"'Matrice des couleurs'!R27","v":0},{"$f":"'Matrice des couleurs'!S27","v":0},{"$f":"'Matrice des couleurs'!T27","v":0},{"$f":"'Matrice des couleurs'!U27","v":0},{"$f":"'Matrice des couleurs'!V27","v":0},{"$f":"'Matrice des couleurs'!W27","v":0},{"$f":"'Matrice des couleurs'!X27","v":0},{"$f":"'Matrice des couleurs'!Y27","v":0},{"$f":"'Matrice des couleurs'!Z27","v":0}]
[null,{"$f":"'Matrice des couleurs'!B28","v":0},{"$f":"'Matrice des couleurs'!C28","v":0},{"$f":"'Matrice des couleurs'!D28","v":0},{"$f":"'Matrice des couleurs'!E28","v":0},{"$f":"'Matrice des couleurs'!F28","v":0},{"$f":"'Matrice des couleurs'!G28","v":0},{"$f":"'Matrice des couleurs'!H28","v":0},{"$f":"'Matrice des couleurs'!I28","v":0},{"$f":"'Matrice des couleurs'!J28","v":0},{"$f":"'Matrice des couleurs'!K28","v":0},{"$f":"'Matrice des couleurs'!L28","v":0},{"$f":"'Matrice des couleurs'!M28","v":0},{"$f":"'Matrice des couleurs'!N28","v":0},{"$f":"'Matrice des couleurs'!O28","v":0},{"$f":"'Matrice des couleurs'!P28","v":0},{"$f":"'Matrice des couleurs'!Q28","v":0},{"$f":"'Matrice des couleurs'!R28","v":0},{"$f":"'Matrice des couleurs'!S28","v":0},{"$f":"'Matrice des couleurs'!T28","v":0},{"$f":"'Matrice des couleurs'!U28","v":0},{"$f":"'Matrice des couleurs'!V28","v":0},{"$f":"'Matrice des couleurs'!W28","v":0},{"$f":"'Matrice des couleurs'!X28","v":0},{"$f":"'Matrice des couleurs'!Y28","v":0},{"$f":"'Matrice des couleurs'!Z28","v":0}]
[null,null,21,15.410985973961317,null,5.7418364814541487,4.5422249596052531,null,4.8303753321258185,10.318380365179465,null,{"$f":"'Matrice des couleurs'!L29","v":0},{"$f":"'Matrice des couleurs'!M29","v":0},{"$f":"'Matrice des couleurs'!N29","v":0},{"$f":"'Matrice des couleurs'!O29","v":0},{"$f":"'Matrice des couleurs'!P29","v":0},{"$f":"'Matrice des couleurs'!Q29","v":0},{"$f":"'Matrice des couleurs'!R29","v":0},{"$f":"'Matrice des couleurs'!S29","v":0},{"$f":"'Matrice des couleurs'!T29","v":0},{"$f":"'Matrice des couleurs'!U29","v":0},{"$f":"'Matrice des couleurs'!V29","v":0},{"$f":"'Matrice des couleurs'!W29","v":0},{"$f":"'Matrice des couleurs'!X29","v":0},{"$f":"'Matrice des couleurs'!Y29","v":0}]

{"sheet":"Éléments graphiques","index":3,"n_rows":29,"n_cols":26,"rows_kept":29,"cut":false,"hidden":false,"merged":[[1,0,1,13],[0,0,0,12]]}
["Aperçu des combinaisons possibles pour des éléments graphiques informatifs"]
["Le ratio de contraste pour les grands textes doit être supérieur ou égal à 3.\nCela concerne notamment :\n- Les pictogrammes informatifs.\n- Les pictogrammes interactifs seuls, lorsqu’ils ne sont pas accompagnés d’un texte.\n- Les champs de formulaire.\n\nPour plus d'information, voir la fiche AcceDe Web suivante : https://www.accede-web.com/notices/fonctionnelle-graphique/couleurs/assurer-un-contraste-suffisant-entre-les-elements-graphiques-informatifs-et-interactifs-avec-leur-arriere-plan/"]
[]
[null,"Blanc","Noir","Bleu Atalan","Violet Atalan","Violet AcceDe Web","Rouge AcceDe PDF","Anis AcceDe Web Formation","Fuchsia AcceDe Web Formation","Jaune AcceDe Web Formation","Violet AcceDe Web Formation","Rose 1 AcceDe Web Formation","Rose 2 AcceDe Web Formation","Rose 3 AcceDe Web Formation","Rose 4 AcceDe Web Formation"]
["Blanc",null,21,13.602166460504677,6.1105221699328718,10.318380365179465,4.8530681884931033,null,4.9498026979339578,null,8.7932050373718091,6.1105221699328718,6.1464145978446192,null,null,8.6554242085776547,{"$f":"'Matrice des couleurs'!Q5","v":0},{"$f":"'Matrice des couleurs'!R5","v":0},{"$f":"'Matrice des couleurs'!S5","v":0},{"$f":"'Matrice des couleurs'!T5","v":0},{"$f":"'Matrice des couleurs'!U5","v":0},{"$f":"'Matrice des couleurs'!V5","v":0},{"$f":"'Matrice des couleurs'!W5","v":0},{"$f":"'Matrice des couleurs'!X5","v":0},{"$f":"'Matrice des couleurs'!Y5","v":0}]
["Noir",21,null,null,3.4366948381811859,null,4.3271594761005368,14.383212639182151,4.242593347966249,16.061984935460913,null,3.4366948381811859,3.4166260127268555,10.74765100328861,18.350667055550861,6.4637298640692959,{"$f":"'Matrice des couleurs'!Q6","v":0},{"$f":"'Matrice des couleurs'!R6","v":0},{"$f":"'Matrice des couleurs'!S6","v":0},{"$f":"'Matrice des couleurs'!T6","v":0},{"$f":"'Matrice des couleurs'!U6","v":0},{"$f":"'Matrice des couleurs'!V6","v":0},{"$f":"'Matrice des couleurs'!W6","v":0},{"$f":"'Matrice des couleurs'!X6","v":0},{"$f":"'Matrice des couleurs'!Y6","v":0},21]
["Bleu Atalan",13.602166460504677,null,null,null,null,null,9.3163263121424009,null,10.403704418012275,null,null,null,6.9614922860067514,11.886134664328669,5.4741162159525532,{"$f":"'Matrice des couleurs'!Q7","v":0},{"$f":"'Matrice des couleurs'!R7","v":0},{"$f":"'Matrice des couleurs'!S7","v":0},{"$f":"'Matrice des couleurs'!T7","v":0},{"$f":"'Matrice des couleurs'!U7","v":0},{"$f":"'Matrice des couleurs'!V7","v":0},{"$f":"'Matrice des couleurs'!W7","v":0},{"$f":"'Matrice des couleurs'!X7","v":0},{"$f":"'Matrice des couleurs'!Y7","v":0},15.410985973961317]
["Violet Atalan",6.1105221699328718,3.4366948381811859,null,null,null,null,4.1851876050752965,null,4.6736721448219862,null,null,null,3.1273218919188728,5.3396265655238251,21,{"$f":"'Matrice des couleurs'!Q8","v":0},{"$f":"'Matrice des couleurs'!R8","v":0},{"$f":"'Matrice des couleurs'!S8","v":0},{"$f":"'Matrice des couleurs'!T8","v":0},{"$f":"'Matrice des couleurs'!U8","v":0},{"$f":"'Matrice des couleurs'!V8","v":0},{"$f":"'Matrice des couleurs'!W8","v":0},{"$f":"'Matrice des couleurs'!X8","v":0},{"$f":"'Matrice des couleurs'!Y8","v":0}]
["Violet AcceDe Web",10.318380365179465,null,null,null,null,null,7.0672123278256294,null,7.8920795230413443,null,null,null,5.2808738611492654,9.0166267920924614,16.747999999999998,{"$f":"'Matrice des couleurs'!Q9","v":0},{"$f":"'Matrice des couleurs'!R9","v":0},{"$f":"'Matrice des couleurs'!S9","v":0},{"$f":"'Matrice des couleurs'!T9","v":0},{"$f":"'Matrice des couleurs'!U9","v":0},{"$f":"'Matrice des couleurs'!V9","v":0},{"$f":"'Matrice des couleurs'!W9","v":0},{"$f":"'Matrice des couleurs'!X9","v":0},{"$f":"'Matrice des couleurs'!Y9","v":0},5.7418364814541487]
["Rouge AcceDe PDF",4.8530681884931033,4.3271594761005368,null,null,null,null,3.3239386527403254,null,3.7119003873495626,null,null,null,null,4.2408113583296334,7.1377254426170795,{"$f":"'Matrice des couleurs'!Q10","v":0},{"$f":"'Matrice des couleurs'!R10","v":0},{"$f":"'Matrice des couleurs'!S10","v":0},{"$f":"'Matrice des couleurs'!T10","v":0},{"$f":"'Matrice des couleurs'!U10","v":0},{"$f":"'Matrice des couleurs'!V10","v":0},{"$f":"'Matrice des couleurs'!W10","v":0},{"$f":"'Matrice des couleurs'!X10","v":0},{"$f":"'Matrice des couleurs'!Y10","v":0},4.5422249596052531]
["Anis AcceDe Web Formation",null,14.383212639182151,9.3163263121424009,4.1851876050752965,7.0672123278256294,3.3239386527403254,null,3.3901935583991243,null,6.0225970396403037,4.1851876050752965,4.2097708633034481,null,null,19.773714569157757,{"$f":"'Matrice des couleurs'!Q11","v":0},{"$f":"'Matrice des couleurs'!R11","v":0},{"$f":"'Matrice des couleurs'!S11","v":0},{"$f":"'Matrice des couleurs'!T11","v":0},{"$f":"'Matrice des couleurs'!U11","v":0},{"$f":"'Matrice des couleurs'!V11","v":0},{"$f":"'Matrice des couleurs'!W11","v":0},{"$f":"'Matrice des couleurs'!X11","v":0},{"$f":"'Matrice des couleurs'!Y11","v":0}]
["Fuchsia AcceDe Web Formation",4.9498026979339578,4.242593347966249,null,null,null,null,3.3901935583991243,null,3.7858883984628098,null,null,null,null,4.32534196668826,null,{"$f":"'Matrice des couleurs'!Q12","v":0},{"$f":"'Matrice des couleurs'!R12","v":0},{"$f":"'Matrice des couleurs'!S12","v":0},{"$f":"'Matrice des couleurs'!T12","v":0},{"$f":"'Matrice des couleurs'!U12","v":0},{"$f":"'Matrice des couleurs'!V12","v":0},{"$f":"'Matrice des couleurs'!W12","v":0},{"$f":"'Matrice des couleurs'!X12","v":0},{"$f":"'Matrice des couleurs'!Y12","v":0},4.8303753321258185]
["Jaune AcceDe Web Formation",null,16.061984935460913,10.403704418012275,4.6736721448219862,7.8920795230413443,3.7119003873495626,null,3.7858883984628098,null,6.7255393735564288,4.6736721448219862,4.701124698937015,null,null,null,{"$f":"'Matrice des couleurs'!Q13","v":0},{"$f":"'Matrice des couleurs'!R13","v":0},{"$f":"'Matrice des couleurs'!S13","v":0},{"$f":"'Matrice des couleurs'!T13","v":0},{"$f":"'Matrice des couleurs'!U13","v":0},{"$f":"'Matrice des couleurs'!V13","v":0},{"$f":"'Matrice des couleurs'!W13","v":0},{"$f":"'Matrice des couleurs'!X13","v":0},{"$f":"'Matrice des couleurs'!Y13","v":0},10.318380365179465]
["Violet AcceDe Web Formation",8.7932050373718091,null,null,null,null,null,6.0225970396403037,null,6.7255393735564288,null,null,null,4.500299949620552,7.6838656186667977,5.6864787825141718,{"$f":"'Matrice des couleurs'!Q14","v":0},{"$f":"'Matrice des couleurs'!R14","v":0},{"$f":"'Matrice des couleurs'!S14","v":0},{"$f":"'Matrice des couleurs'!T14","v":0},{"$f":"'Matrice des couleurs'!U14","v":0},{"$f":"'Matrice des couleurs'!V14","v":0},{"$f":"'Matrice des couleurs'!W14","v":0},{"$f":"'Matrice des couleurs'!X14","v":0},{"$f":"'Matrice des couleurs'!Y14","v":0},3.6929707826528166]
["Rose 1 AcceDe Web Formation",6.1105221699328718,3.4366948381811859,null,null,null,null,4.1851876050752965,null,4.6736721448219862,null,null,null,3.1273218919188728,5.3396265655238251,null,{"$f":"'Matrice des couleurs'!Q15","v":0},{"$f":"'Matrice des couleurs'!R15","v":0},{"$f":"'Matrice des couleurs'!S15","v":0},{"$f":"'Matrice des couleurs'!T15","v":0},{"$f":"'Matrice des couleurs'!U15","v":0},{"$f":"'Matrice des couleurs'!V15","v":0},{"$f":"'Matrice des couleurs'!W15","v":0},{"$f":"'Matrice des couleurs'!X15","v":0},{"$f":"'Matrice des couleurs'!Y15","v":0},{"$f":"'Matrice des couleurs'!Z15","v":0}]
["Rose 2 AcceDe Web Formation",6.1464145978446192,3.4166260127268555,null,null,null,null,4.2097708633034481,null,4.701124698937015,null,null,null,3.1456913818644039,5.3709908509725794,{"$f":"'Matrice des couleurs'!P16","v":0},{"$f":"'Matrice des couleurs'!Q16","v":0},{"$f":"'Matrice des couleurs'!R16","v":0},{"$f":"'Matrice des couleurs'!S16","v":0},{"$f":"'Matrice des couleurs'!T16","v":0},{"$f":"'Matrice des couleurs'!U16","v":0},{"$f":"'Matrice des couleurs'!V16","v":0},{"$f":"'Matrice des couleurs'!W16","v":0},{"$f":"'Matrice des couleurs'!X16","v":0},{"$f":"'Matrice des couleurs'!Y16","v":0},{"$f":"'Matrice des couleurs'!Z16","v":0}]
["Rose 3 AcceDe Web Formation",null,10.74765100328861,6.9614922860067514,3.1273218919188728,5.2808738611492654,null,null,null,null,4.500299949620552,3.1273218919188728,3.1456913818644039,null,null,{"$f":"'Matrice des couleurs'!P17","v":0},{"$f":"'Matrice des couleurs'!Q17","v":0},{"$f":"'Matrice des couleurs'!R17","v":0},{"$f":"'Matrice des couleurs'!S17","v":0},{"$f":"'Matrice des couleurs'!T17","v":0},{"$f":"'Matrice des couleurs'!U17","v":0},{"$f":"'Matrice des couleurs'!V17","v":0},{"$f":"'Matrice des couleurs'!W17","v":0},{"$f":"'Matrice des couleurs'!X17","v":0},{"$f":"'Matrice des couleurs'!Y17","v":0},{"$f":"'Matrice des couleurs'!Z17","v":0}]
["Rose 4 AcceDe Web Formation",null,18.350667055550861,11.886134664328669,5.3396265655238251,9.0166267920924614,4.2408113583296334,null,4.32534196668826,null,7.6838656186667977,5.3396265655238251,5.3709908509725794,null,null,{"$f":"'Matrice des couleurs'!P18","v":0},{"$f":"'Matrice des couleurs'!Q18","v":0},{"$f":"'Matrice des couleurs'!R18","v":0},{"$f":"'Matrice des couleurs'!S18","v":0},{"$f":"'Matrice des couleurs'!T18","v":0},{"$f":"'Matrice des couleurs'!U18","v":0},{"$f":"'Matrice des couleurs'!V18","v":0},{"$f":"'Matrice des couleurs'!W18","v":0},{"$f":"'Matrice des couleurs'!X18","v":0},{"$f":"'Matrice des couleurs'!Y18","v":0},{"$f":"'Matrice des couleurs'!Z18","v":0}]
[null,8.6554242085776547,6.4637298640692959,5.4741162159525532,21,16.747999999999998,7.1377254426170795,19.773714569157757,null,null,5.6864787825141718,null,{"$f":"'Matrice des couleurs'!M19","v":0},{"$f":"'Matrice des couleurs'!N19","v":0},{"$f":"'Matrice des couleurs'!O19","v":0},null,{"$f":"'Matrice des couleurs'!Q19","v":0},{"$f":"'Matrice des couleurs'!R19","v":0},{"$f":"'Matrice des couleurs'!S19","v":0},{"$f":"'Matrice des couleurs'!T19","v":0},{"$f":"'Matrice des couleurs'!U19","v":0},{"$f":"'Matrice des couleurs'!V19","v":0},{"$f":"'Matrice des couleurs'!W19","v":0},{"$f":"'Matrice des couleurs'!X19","v":0},{"$f":"'Matrice des couleurs'!Y19","v":0},{"$f":"'Matrice des couleurs'!Z19","v":0}]
[null,{"$f":"'Matrice des couleurs'!B20","v":0},{"$f":"'Matrice des couleurs'!C20","v":0},{"$f":"'Matrice des couleurs'!D20","v":0},{"$f":"'Matrice des couleurs'!E20","v":0},{"$f":"'Matrice des couleurs'!F20","v":0},{"$f":"'Matrice des couleurs'!G20","v":0},{"$f":"'Matrice des couleurs'!H20","v":0},{"$f":"'Matrice des couleurs'!I20","v":0},{"$f":"'Matrice des couleurs'!J20","v":0},{"$f":"'Matrice des couleurs'!K20","v":0},{"$f":"'Matrice des couleurs'!L20","v":0},{"$f":"'Matrice des couleurs'!M20","v":0},{"$f":"'Matrice des couleurs'!N20","v":0},{"$f":"'Matrice des couleurs'!O20","v":0},{"$f":"'Matrice des couleurs'!P20","v":0},{"$f":"'Matrice des couleurs'!Q20","v":0},{"$f":"'Matrice des couleurs'!R20","v":0},{"$f":"'Matrice des couleurs'!S20","v":0},{"$f":"'Matrice des couleurs'!T20","v":0},{"$f":"'Matrice des couleurs'!U20","v":0},{"$f":"'Matrice des couleurs'!V20","v":0},{"$f":"'Matrice des couleurs'!W20","v":0},{"$f":"'Matrice des couleurs'!X20","v":0},{"$f":"'Matrice des couleurs'!Y20","v":0},{"$f":"'Matrice des couleurs'!Z20","v":0}]
[null,{"$f":"'Matrice des couleurs'!B21","v":0},{"$f":"'Matrice des couleurs'!C21","v":0},{"$f":"'Matrice des couleurs'!D21","v":0},{"$f":"'Matrice des couleurs'!E21","v":0},{"$f":"'Matrice des couleurs'!F21","v":0},{"$f":"'Matrice des couleurs'!G21","v":0},{"$f":"'Matrice des couleurs'!H21","v":0},{"$f":"'Matrice des couleurs'!I21","v":0},{"$f":"'Matrice des couleurs'!J21","v":0},{"$f":"'Matrice des couleurs'!K21","v":0},{"$f":"'Matrice des couleurs'!L21","v":0},{"$f":"'Matrice des couleurs'!M21","v":0},{"$f":"'Matrice des couleurs'!N21","v":0},{"$f":"'Matrice des couleurs'!O21","v":0},{"$f":"'Matrice des couleurs'!P21","v":0},{"$f":"'Matrice des couleurs'!Q21","v":0},{"$f":"'Matrice des couleurs'!R21","v":0},{"$f":"'Matrice des couleurs'!S21","v":0},{"$f":"'Matrice des couleurs'!T21","v":0},{"$f":"'Matrice des couleurs'!U21","v":0},{"$f":"'Matrice des couleurs'!V21","v":0},{"$f":"'Matrice des couleurs'!W21","v":0},{"$f":"'Matrice des couleurs'!X21","v":0},{"$f":"'Matrice des couleurs'!Y21","v":0},{"$f":"'Matrice des couleurs'!Z21","v":0}]
[null,{"$f":"'Matrice des couleurs'!B22","v":0},{"$f":"'Matrice des couleurs'!C22","v":0},{"$f":"'Matrice des couleurs'!D22","v":0},{"$f":"'Matrice des couleurs'!E22","v":0},{"$f":"'Matrice des couleurs'!F22","v":0},{"$f":"'Matrice des couleurs'!G22","v":0},{"$f":"'Matrice des couleurs'!H22","v":0},{"$f":"'Matrice des couleurs'!I22","v":0},{"$f":"'Matrice des couleurs'!J22","v":0},{"$f":"'Matrice des couleurs'!K22","v":0},{"$f":"'Matrice des couleurs'!L22","v":0},{"$f":"'Matrice des couleurs'!M22","v":0},{"$f":"'Matrice des couleurs'!N22","v":0},{"$f":"'Matrice des couleurs'!O22","v":0},{"$f":"'Matrice des couleurs'!P22","v":0},{"$f":"'Matrice des couleurs'!Q22","v":0},{"$f":"'Matrice des couleurs'!R22","v":0},{"$f":"'Matrice des couleurs'!S22","v":0},{"$f":"'Matrice des couleurs'!T22","v":0},{"$f":"'Matrice des couleurs'!U22","v":0},{"$f":"'Matrice des couleurs'!V22","v":0},{"$f":"'Matrice des couleurs'!W22","v":0},{"$f":"'Matrice des couleurs'!X22","v":0},{"$f":"'Matrice des couleurs'!Y22","v":0},{"$f":"'Matrice des couleurs'!Z22","v":0}]
[null,{"$f":"'Matrice des couleurs'!B23","v":0},{"$f":"'Matrice des couleurs'!C23","v":0},{"$f":"'Matrice des couleurs'!D23","v":0},{"$f":"'Matrice des couleurs'!E23","v":0},{"$f":"'Matrice des couleurs'!F23","v":0},{"$f":"'Matrice des couleurs'!G23","v":0},{"$f":"'Matrice des couleurs'!H23","v":0},{"$f":"'Matrice des couleurs'!I23","v":0},{"$f":"'Matrice des couleurs'!J23","v":0},{"$f":"'Matrice des couleurs'!K23","v":0},{"$f":"'Matrice des couleurs'!L23","v":0},{"$f":"'Matrice des couleurs'!M23","v":0},{"$f":"'Matrice des couleurs'!N23","v":0},{"$f":"'Matrice des couleurs'!O23","v":0},{"$f":"'Matrice des couleurs'!P23","v":0},{"$f":"'Matrice des couleurs'!Q23","v":0},{"$f":"'Matrice des couleurs'!R23","v":0},{"$f":"'Matrice des couleurs'!S23","v":0},{"$f":"'Matrice des couleurs'!T23","v":0},{"$f":"'Matrice des couleurs'!U23","v":0},{"$f":"'Matrice des couleurs'!V23","v":0},{"$f":"'Matrice des couleurs'!W23","v":0},{"$f":"'Matrice des couleurs'!X23","v":0},{"$f":"'Matrice des couleurs'!Y23","v":0},{"$f":"'Matrice des couleurs'!Z23","v":0}]
[null,{"$f":"'Matrice des couleurs'!B24","v":0},{"$f":"'Matrice des couleurs'!C24","v":0},{"$f":"'Matrice des couleurs'!D24","v":0},{"$f":"'Matrice des couleurs'!E24","v":0},{"$f":"'Matrice des couleurs'!F24","v":0},{"$f":"'Matrice des couleurs'!G24","v":0},{"$f":"'Matrice des couleurs'!H24","v":0},{"$f":"'Matrice des couleurs'!I24","v":0},{"$f":"'Matrice des couleurs'!J24","v":0},{"$f":"'Matrice des couleurs'!K24","v":0},{"$f":"'Matrice des couleurs'!L24","v":0},{"$f":"'Matrice des couleurs'!M24","v":0},{"$f":"'Matrice des couleurs'!N24","v":0},{"$f":"'Matrice des couleurs'!O24","v":0},{"$f":"'Matrice des couleurs'!P24","v":0},{"$f":"'Matrice des couleurs'!Q24","v":0},{"$f":"'Matrice des couleurs'!R24","v":0},{"$f":"'Matrice des couleurs'!S24","v":0},{"$f":"'Matrice des couleurs'!T24","v":0},{"$f":"'Matrice des couleurs'!U24","v":0},{"$f":"'Matrice des couleurs'!V24","v":0},{"$f":"'Matrice des couleurs'!W24","v":0},{"$f":"'Matrice des couleurs'!X24","v":0},{"$f":"'Matrice des couleurs'!Y24","v":0},{"$f":"'Matrice des couleurs'!Z24","v":0}]
[null,{"$f":"'Matrice des couleurs'!B25","v":0},{"$f":"'Matrice des couleurs'!C25","v":0},{"$f":"'Matrice des couleurs'!D25","v":0},{"$f":"'Matrice des couleurs'!E25","v":0},{"$f":"'Matrice des couleurs'!F25","v":0},{"$f":"'Matrice des couleurs'!G25","v":0},{"$f":"'Matrice des couleurs'!H25","v":0},{"$f":"'Matrice des couleurs'!I25","v":0},{"$f":"'Matrice des couleurs'!J25","v":0},{"$f":"'Matrice des couleurs'!K25","v":0},{"$f":"'Matrice des couleurs'!L25","v":0},{"$f":"'Matrice des couleurs'!M25","v":0},{"$f":"'Matrice des couleurs'!N25","v":0},{"$f":"'Matrice des couleurs'!O25","v":0},{"$f":"'Matrice des couleurs'!P25","v":0},{"$f":"'Matrice des couleurs'!Q25","v":0},{"$f":"'Matrice des couleurs'!R25","v":0},{"$f":"'Matrice des couleurs'!S25","v":0},{"$f":"'Matrice des couleurs'!T25","v":0},{"$f":"'Matrice des couleurs'!U25","v":0},{"$f":"'Matrice des couleurs'!V25","v":0},{"$f":"'Matrice des couleurs'!W25","v":0},{"$f":"'Matrice des couleurs'!X25","v":0},{"$f":"'Matrice des couleurs'!Y25","v":0},{"$f":"'Matrice des couleurs'!Z25","v":0}]
[null,{"$f":"'Matrice des couleurs'!B26","v":0},{"$f":"'Matrice des couleurs'!C26","v":0},{"$f":"'Matrice des couleurs'!D26","v":0},{"$f":"'Matrice des couleurs'!E26","v":0},{"$f":"'Matrice des couleurs'!F26","v":0},{"$f":"'Matrice des couleurs'!G26","v":0},{"$f":"'Matrice des couleurs'!H26","v":0},{"$f":"'Matrice des couleurs'!I26","v":0},{"$f":"'Matrice des couleurs'!J26","v":0},{"$f":"'Matrice des couleurs'!K26","v":0},{"$f":"'Matrice des couleurs'!L26","v":0},{"$f":"'Matrice des couleurs'!M26","v":0},{"$f":"'Matrice des couleurs'!N26","v":0},{"$f":"'Matrice des couleurs'!O26","v":0},{"$f":"'Matrice des couleurs'!P26","v":0},{"$f":"'Matrice des couleurs'!Q26","v":0},{"$f":"'Matrice des couleurs'!R26","v":0},{"$f":"'Matrice des couleurs'!S26","v":0},{"$f":"'Matrice des couleurs'!T26","v":0},{"$f":"'Matrice des couleurs'!U26","v":0},{"$f":"'Matrice des couleurs'!V26","v":0},{"$f":"'Matrice des couleurs'!W26","v":0},{"$f":"'Matrice des couleurs'!X26","v":0},{"$f":"'Matrice des couleurs'!Y26","v":0},{"$f":"'Matrice des couleurs'!Z26","v":0}]
[null,{"$f":"'Matrice des couleurs'!B27","v":0},{"$f":"'Matrice des couleurs'!C27","v":0},{"$f":"'Matrice des couleurs'!D27","v":0},{"$f":"'Matrice des couleurs'!E27","v":0},{"$f":"'Matrice des couleurs'!F27","v":0},{"$f":"'Matrice des couleurs'!G27","v":0},{"$f":"'Matrice des couleurs'!H27","v":0},{"$f":"'Matrice des couleurs'!I27","v":0},{"$f":"'Matrice des couleurs'!J27","v":0},{"$f":"'Matrice des couleurs'!K27","v":0},{"$f":"'Matrice des couleurs'!L27","v":0},{"$f":"'Matrice des couleurs'!M27","v":0},{"$f":"'Matrice des couleurs'!N27","v":0},{"$f":"'Matrice des couleurs'!O27","v":0},{"$f":"'Matrice des couleurs'!P27","v":0},{"$f":"'Matrice des couleurs'!Q27","v":0},{"$f":"'Matrice des couleurs'!R27","v":0},{"$f":"'Matrice des couleurs'!S27","v":0},{"$f":"'Matrice des couleurs'!T27","v":0},{"$f":"'Matrice des couleurs'!U27","v":0},{"$f":"'Matrice des couleurs'!V27","v":0},{"$f":"'Matrice des couleurs'!W27","v":0},{"$f":"'Matrice des couleurs'!X27","v":0},{"$f":"'Matrice des couleurs'!Y27","v":0},{"$f":"'Matrice des couleurs'!Z27","v":0}]
[null,{"$f":"'Matrice des couleurs'!B28","v":0},{"$f":"'Matrice des couleurs'!C28","v":0},{"$f":"'Matrice des couleurs'!D28","v":0},{"$f":"'Matrice des couleurs'!E28","v":0},{"$f":"'Matrice des couleurs'!F28","v":0},{"$f":"'Matrice des couleurs'!G28","v":0},{"$f":"'Matrice des couleurs'!H28","v":0},{"$f":"'Matrice des couleurs'!I28","v":0},{"$f":"'Matrice des couleurs'!J28","v":0},{"$f":"'Matrice des couleurs'!K28","v":0},{"$f":"'Matrice des couleurs'!L28","v":0},{"$f":"'Matrice des couleurs'!M28","v":0},{"$f":"'Matrice des couleurs'!N28","v":0},{"$f":"'Matrice des couleurs'!O28","v":0},{"$f":"'Matrice des couleurs'!P28","v":0},{"$f":"'Matrice des couleurs'!Q28","v":0},{"$f":"'Matrice des couleurs'!R28","v":0},{"$f":"'Matrice des couleurs'!S28","v":0},{"$f":"'Matrice des couleurs'!T28","v":0},{"$f":"'Matrice des couleurs'!U28","v":0},{"$f":"'Matrice des couleurs'!V28","v":0},{"$f":"'Matrice des couleurs'!W28","v":0},{"$f":"'Matrice des couleurs'!X28","v":0},{"$f":"'Matrice des couleurs'!Y28","v":0},{"$f":"'Matrice des couleurs'!Z28","v":0}]
[null,null,21,15.410985973961317,null,5.7418364814541487,4.5422249596052531,null,4.8303753321258185,10.318380365179465,3.6929707826528166,{"$f":"'Matrice des couleurs'!L29","v":0},{"$f":"'Matrice des couleurs'!M29","v":0},{"$f":"'Matrice des couleurs'!N29","v":0},{"$f":"'Matrice des couleurs'!O29","v":0},{"$f":"'Matrice des couleurs'!P29","v":0},{"$f":"'Matrice des couleurs'!Q29","v":0},{"$f":"'Matrice des couleurs'!R29","v":0},{"$f":"'Matrice des couleurs'!S29","v":0},{"$f":"'Matrice des couleurs'!T29","v":0},{"$f":"'Matrice des couleurs'!U29","v":0},{"$f":"'Matrice des couleurs'!V29","v":0},{"$f":"'Matrice des couleurs'!W29","v":0},{"$f":"'Matrice des couleurs'!X29","v":0},{"$f":"'Matrice des couleurs'!Y29","v":0}]